Index of /checkResults/release/bioc-testing-LATEST/RProtoBufLib/raw-results/nebbiolo1
Name
Last modified
Size
Description
Parent Directory
-
buildsrc-summary.dcf
18-Jul-2024 00:15
433
buildsrc-out.txt
18-Jul-2024 00:15
904
bioccheck-summary.dcf
18-Jul-2024 00:15
325
bioccheck-out.txt
18-Jul-2024 00:15
5.0K