Index of /checkResults/release/bioc-testing-LATEST/KEGGgraph/raw-results/nebbiolo1
Name
Last modified
Size
Description
Parent Directory
-
buildsrc-summary.dcf
18-Jul-2024 00:15
423
buildsrc-out.txt
18-Jul-2024 00:15
814
bioccheck-summary.dcf
18-Jul-2024 00:15
318
bioccheck-out.txt
18-Jul-2024 00:15
5.6K