Index of /checkResults/release/bioc-testing-LATEST/GenomicRanges/raw-results/nebbiolo1
Name
Last modified
Size
Description
Parent Directory
-
bioccheck-out.txt
18-Jul-2024 00:15
4.7K
buildsrc-summary.dcf
18-Jul-2024 00:15
436
buildsrc-out.txt
18-Jul-2024 00:15
860
bioccheck-summary.dcf
18-Jul-2024 00:15
326