Index of /checkResults/release/bioc-testing-LATEST/DOSE/raw-results/nebbiolo1
Name
Last modified
Size
Description
Parent Directory
-
buildsrc-summary.dcf
18-Jul-2024 00:15
408
buildsrc-out.txt
18-Jul-2024 00:15
857
bioccheck-summary.dcf
18-Jul-2024 00:15
308
bioccheck-out.txt
18-Jul-2024 00:15
4.6K