Index of /checkResults/release/bioc-testing-LATEST/DEXSeq/raw-results/nebbiolo1
Name
Last modified
Size
Description
Parent Directory
-
bioccheck-out.txt
18-Jul-2024 00:15
4.8K
bioccheck-summary.dcf
18-Jul-2024 00:15
312
buildsrc-out.txt
18-Jul-2024 00:15
802
buildsrc-summary.dcf
18-Jul-2024 00:15
415