Index of /checkResults/release/bioc-testing-LATEST/Biostrings/raw-results/nebbiolo1
Name
Last modified
Size
Description
Parent Directory
-
bioccheck-out.txt
18-Jul-2024 00:15
5.7K
buildsrc-out.txt
18-Jul-2024 00:15
911
buildsrc-summary.dcf
18-Jul-2024 00:15
426
bioccheck-summary.dcf
18-Jul-2024 00:15
320