Index of /checkResults/release/bioc-testing-LATEST/Biostrings/raw-results
Name
Last modified
Size
Description
Parent Directory
-
nebbiolo1/
18-Jul-2024 00:15
-