Index of /checkResults/release/bioc-testing-LATEST/BiocSingular/raw-results/nebbiolo1
Name
Last modified
Size
Description
Parent Directory
-
bioccheck-out.txt
18-Jul-2024 00:15
4.2K
bioccheck-summary.dcf
18-Jul-2024 00:15
324
buildsrc-out.txt
18-Jul-2024 00:15
856
buildsrc-summary.dcf
18-Jul-2024 00:15
432