Index of /checkResults/release/bioc-testing-LATEST/BiocNeighbors/raw-results/nebbiolo1
Name
Last modified
Size
Description
Parent Directory
-
buildsrc-summary.dcf
18-Jul-2024 00:15
435
buildsrc-out.txt
18-Jul-2024 00:15
860
bioccheck-summary.dcf
18-Jul-2024 00:15
327
bioccheck-out.txt
18-Jul-2024 00:15
4.3K