Index of /checkResults/release/bioc-testing-LATEST/BiocCheck/raw-results/nebbiolo1
Name
Last modified
Size
Description
Parent Directory
-
bioccheck-summary.dcf
18-Jul-2024 00:15
315
buildsrc-summary.dcf
18-Jul-2024 00:15
423
buildsrc-out.txt
18-Jul-2024 00:15
814
bioccheck-out.txt
18-Jul-2024 00:15
3.8K