Index of /checkResults/release/bioc-testing-LATEST/BiocBaseUtils/raw-results/nebbiolo1
Name
Last modified
Size
Description
Parent Directory
-
bioccheck-out.txt
18-Jul-2024 00:15
3.8K
buildsrc-out.txt
18-Jul-2024 00:15
829
buildsrc-summary.dcf
18-Jul-2024 00:15
430
bioccheck-summary.dcf
18-Jul-2024 00:15
321