Index of /checkResults/release/bioc-testing-LATEST/Biobase/raw-results/nebbiolo1
Name
Last modified
Size
Description
Parent Directory
-
bioccheck-out.txt
18-Jul-2024 00:15
4.8K
buildsrc-out.txt
18-Jul-2024 00:15
899
buildsrc-summary.dcf
18-Jul-2024 00:15
417
bioccheck-summary.dcf
18-Jul-2024 00:15
314