Index of /checkResults/release/bioc-testing-LATEST/AnnotationHub/raw-results/nebbiolo1
Name
Last modified
Size
Description
Parent Directory
-
buildsrc-summary.dcf
18-Jul-2024 00:15
436
buildsrc-out.txt
18-Jul-2024 00:15
830
bioccheck-summary.dcf
18-Jul-2024 00:15
326
bioccheck-out.txt
18-Jul-2024 00:15
4.6K