Index of /checkResults/release/bioc-testing-LATEST/AnnotationFilter/raw-results/nebbiolo1
Name
Last modified
Size
Description
Parent Directory
-
buildsrc-summary.dcf
18-Jul-2024 00:15
444
buildsrc-out.txt
18-Jul-2024 00:15
882
bioccheck-summary.dcf
18-Jul-2024 00:15
332
bioccheck-out.txt
18-Jul-2024 00:15
3.9K