Index of /checkResults/release/bioc-mac-arm64-LATEST/scifer/raw-results
Name
Last modified
Size
Description
Parent Directory
-
info.dcf
08-May-2024 00:32
289
kjohnson3/
08-May-2024 00:32
-