Name | Last modified | Size | Description | |
---|---|---|---|---|
Parent Directory | - | |||
buildbin-out.txt | 08-May-2024 00:32 | 12K | ||
buildbin-summary.dcf | 08-May-2024 00:32 | 530 | ||
buildsrc-out.txt | 08-May-2024 00:32 | 846 | ||
buildsrc-summary.dcf | 08-May-2024 00:32 | 427 | ||
checksrc-out.txt | 08-May-2024 00:32 | 5.2K | ||
checksrc-summary.dcf | 08-May-2024 00:32 | 450 | ||
install-out.txt | 08-May-2024 00:32 | 9.0K | ||
install-summary.dcf | 08-May-2024 00:32 | 269 | ||