Index of /checkResults/release/bioc-mac-arm64-LATEST/decompTumor2Sig/raw-results/kjohnson3
Name
Last modified
Size
Description
Parent Directory
-
buildsrc-out.txt
08-May-2024 00:32
677
buildsrc-summary.dcf
08-May-2024 00:32
366
install-out.txt
08-May-2024 00:32
1.0K
install-summary.dcf
08-May-2024 00:32
285