Name | Last modified | Size | Description | |
---|---|---|---|---|
Parent Directory | - | |||
buildbin-out.txt | 08-May-2024 00:32 | 1.2K | ||
buildbin-summary.dcf | 08-May-2024 00:32 | 528 | ||
buildsrc-out.txt | 08-May-2024 00:32 | 1.0K | ||
buildsrc-summary.dcf | 08-May-2024 00:32 | 427 | ||
checksrc-out.txt | 08-May-2024 00:32 | 4.0K | ||
checksrc-summary.dcf | 08-May-2024 00:32 | 444 | ||
install-out.txt | 08-May-2024 00:32 | 1.1K | ||
install-summary.dcf | 08-May-2024 00:32 | 268 | ||