Name | Last modified | Size | Description | |
---|---|---|---|---|
Parent Directory | - | |||
buildbin-out.txt | 08-May-2024 00:32 | 1.3K | ||
buildbin-summary.dcf | 08-May-2024 00:32 | 572 | ||
buildsrc-out.txt | 08-May-2024 00:32 | 907 | ||
buildsrc-summary.dcf | 08-May-2024 00:32 | 447 | ||
checksrc-out.txt | 08-May-2024 00:32 | 5.3K | ||
checksrc-summary.dcf | 08-May-2024 00:32 | 472 | ||
install-out.txt | 08-May-2024 00:32 | 1.1K | ||
install-summary.dcf | 08-May-2024 00:32 | 283 | ||