Name | Last modified | Size | Description | |
---|---|---|---|---|
Parent Directory | - | |||
buildbin-out.txt | 08-May-2024 00:32 | 12K | ||
buildbin-summary.dcf | 08-May-2024 00:32 | 518 | ||
buildsrc-out.txt | 08-May-2024 00:32 | 910 | ||
buildsrc-summary.dcf | 08-May-2024 00:32 | 422 | ||
checksrc-out.txt | 08-May-2024 00:32 | 6.2K | ||
checksrc-summary.dcf | 08-May-2024 00:32 | 442 | ||
install-out.txt | 08-May-2024 00:32 | 9.1K | ||
install-summary.dcf | 08-May-2024 00:32 | 265 | ||