Index of /checkResults/release/bioc-longtests-LATEST/xcms/raw-results/nebbiolo1
Name
Last modified
Size
Description
Parent Directory
-
buildsrc-out.txt
19-Nov-2023 11:30
832
buildsrc-summary.dcf
19-Nov-2023 11:30
438
checksrc-out.txt
14-Jul-2024 12:55
11K
checksrc-summary.dcf
14-Jul-2024 12:55
422