Index of /checkResults/release/bioc-longtests-LATEST/mosdef/raw-results/palomino7
Name
Last modified
Size
Description
Parent Directory
-
checksrc-summary.dcf
14-Jul-2024 12:55
450
checksrc-out.txt
14-Jul-2024 12:55
3.3K