Index of /checkResults/release/bioc-longtests-LATEST/extraChIPs/raw-results/nebbiolo1
Name
Last modified
Size
Description
Parent Directory
-
buildsrc-out.txt
19-Nov-2023 11:30
856
buildsrc-summary.dcf
19-Nov-2023 11:30
455
checksrc-out.txt
14-Jul-2024 12:55
3.8K
checksrc-summary.dcf
14-Jul-2024 12:55
436