Index of /checkResults/release/bioc-longtests-LATEST/cBioPortalData/raw-results/palomino7
Name
Last modified
Size
Description
Parent Directory
-
checksrc-out.txt
14-Jul-2024 12:55
3.7K
checksrc-summary.dcf
14-Jul-2024 12:55
481