Index of /checkResults/release/bioc-longtests-LATEST/biodbNci/raw-results
Name
Last modified
Size
Description
Parent Directory
-
info.dcf
14-Jul-2024 12:55
275
palomino7/
14-Jul-2024 12:55
-
palomino3/
23-Jun-2024 12:55
-
nebbiolo1/
14-Jul-2024 12:55
-
merida1/
14-Jul-2024 12:55
-
lconway/
09-Jun-2024 12:55
-