Index of /checkResults/release/bioc-longtests-LATEST/biodb/raw-results/nebbiolo1
Name
Last modified
Size
Description
Parent Directory
-
checksrc-out.txt
14-Jul-2024 12:55
15K
checksrc-summary.dcf
14-Jul-2024 12:55
429
buildsrc-summary.dcf
19-Nov-2023 11:30
443
buildsrc-out.txt
19-Nov-2023 11:30
774