Index of /checkResults/release/bioc-longtests-LATEST/beachmat/raw-results/palomino7
Name
Last modified
Size
Description
Parent Directory
-
checksrc-summary.dcf
14-Jul-2024 12:55
463
checksrc-out.txt
14-Jul-2024 12:55
4.4K