Index of /checkResults/release/bioc-longtests-LATEST/beachmat/raw-results/nebbiolo1
Name
Last modified
Size
Description
Parent Directory
-
buildsrc-out.txt
19-Nov-2023 11:30
786
buildsrc-summary.dcf
19-Nov-2023 11:30
452
checksrc-out.txt
14-Jul-2024 12:55
4.5K
checksrc-summary.dcf
14-Jul-2024 12:55
437