Index of /checkResults/release/bioc-longtests-LATEST/basilisk/raw-results/palomino3
Name
Last modified
Size
Description
Parent Directory
-
checksrc-summary.dcf
23-Jun-2024 12:55
462
checksrc-out.txt
23-Jun-2024 12:55
4.4K