Index of /checkResults/release/bioc-longtests-LATEST/basilisk/raw-results/lconway
Name
Last modified
Size
Description
Parent Directory
-
checksrc-summary.dcf
09-Jun-2024 12:55
441
checksrc-out.txt
09-Jun-2024 12:55
3.4K