Index of /checkResults/release/bioc-longtests-LATEST/SimBu/raw-results/merida1
Name
Last modified
Size
Description
Parent Directory
-
checksrc-out.txt
14-Jul-2024 12:55
3.5K
checksrc-summary.dcf
14-Jul-2024 12:55
431