Index of /checkResults/release/bioc-longtests-LATEST/GenomicFeatures/raw-results/palomino7
Name
Last modified
Size
Description
Parent Directory
-
checksrc-out.txt
14-Jul-2024 12:55
4.1K
checksrc-summary.dcf
14-Jul-2024 12:55
485