Index of /checkResults/release/bioc-longtests-LATEST/GenomicFeatures/raw-results/lconway
Name
Last modified
Size
Description
Parent Directory
-
checksrc-out.txt
09-Jun-2024 12:55
4.2K
checksrc-summary.dcf
09-Jun-2024 12:55
469