Index of /checkResults/release/bioc-longtests-LATEST/ChromSCape/raw-results/nebbiolo1
Name
Last modified
Size
Description
Parent Directory
-
buildsrc-summary.dcf
19-Nov-2023 11:30
457
buildsrc-out.txt
19-Nov-2023 11:30
857
checksrc-out.txt
14-Jul-2024 12:55
8.0K
checksrc-summary.dcf
14-Jul-2024 12:55
442