Index of /checkResults/release/bioc-LATEST/waddR/raw-results/merida1
Name
Last modified
Size
Description
Parent Directory
-
buildsrc-out.txt
26-Jun-2024 06:42
2.3K
buildsrc-summary.dcf
26-Jun-2024 06:42
340
install-out.txt
26-Jun-2024 06:42
2.8K
install-summary.dcf
26-Jun-2024 06:42
266