Index of /checkResults/release/bioc-LATEST/waddR/raw-results/kjohnson3
Name
Last modified
Size
Description
Parent Directory
-
buildsrc-out.txt
12-Jun-2024 03:44
2.3K
buildsrc-summary.dcf
12-Jun-2024 03:44
340
install-out.txt
12-Jun-2024 03:44
2.8K
install-summary.dcf
12-Jun-2024 03:44
265