Name | Last modified | Size | Description | |
---|---|---|---|---|
Parent Directory | - | |||
buildbin-out.txt | 12-Jun-2024 03:44 | 1.6K | ||
buildbin-summary.dcf | 12-Jun-2024 03:44 | 590 | ||
buildsrc-out.txt | 12-Jun-2024 03:44 | 1.0K | ||
buildsrc-summary.dcf | 12-Jun-2024 03:44 | 459 | ||
checksrc-out.txt | 12-Jun-2024 03:44 | 4.7K | ||
checksrc-summary.dcf | 12-Jun-2024 03:44 | 484 | ||
install-out.txt | 12-Jun-2024 03:44 | 1.4K | ||
install-summary.dcf | 12-Jun-2024 03:44 | 289 | ||