Name | Last modified | Size | Description | |
---|---|---|---|---|
Parent Directory | - | |||
buildsrc-out.txt | 19-Jun-2024 07:02 | 1.0K | ||
buildsrc-summary.dcf | 19-Jun-2024 07:02 | 458 | ||
checksrc-out.txt | 19-Jun-2024 07:02 | 4.7K | ||
checksrc-summary.dcf | 19-Jun-2024 07:02 | 484 | ||
install-out.txt | 19-Jun-2024 07:02 | 1.4K | ||
install-summary.dcf | 19-Jun-2024 07:02 | 289 | ||