Name | Last modified | Size | Description | |
---|---|---|---|---|
Parent Directory | - | |||
buildbin-out.txt | 03-Jul-2024 23:21 | 13K | ||
buildbin-summary.dcf | 03-Jul-2024 23:21 | 558 | ||
buildsrc-out.txt | 03-Jul-2024 23:21 | 966 | ||
buildsrc-summary.dcf | 03-Jul-2024 23:21 | 481 | ||
checksrc-out.txt | 03-Jul-2024 23:21 | 4.8K | ||
checksrc-summary.dcf | 03-Jul-2024 23:21 | 475 | ||
install-out.txt | 03-Jul-2024 23:21 | 13K | ||
install-summary.dcf | 03-Jul-2024 23:21 | 283 | ||