Name | Last modified | Size | Description | |
---|---|---|---|---|
Parent Directory | - | |||
buildbin-out.txt | 26-Jun-2024 06:41 | 13K | ||
buildbin-summary.dcf | 26-Jun-2024 06:41 | 558 | ||
buildsrc-out.txt | 26-Jun-2024 06:41 | 966 | ||
buildsrc-summary.dcf | 26-Jun-2024 06:41 | 481 | ||
checksrc-out.txt | 26-Jun-2024 06:41 | 4.8K | ||
checksrc-summary.dcf | 26-Jun-2024 06:41 | 475 | ||
install-out.txt | 26-Jun-2024 06:41 | 13K | ||
install-summary.dcf | 26-Jun-2024 06:41 | 283 | ||