Name | Last modified | Size | Description | |
---|---|---|---|---|
Parent Directory | - | |||
buildbin-out.txt | 12-Jun-2024 03:44 | 11K | ||
buildbin-summary.dcf | 12-Jun-2024 03:44 | 573 | ||
buildsrc-out.txt | 12-Jun-2024 03:44 | 937 | ||
buildsrc-summary.dcf | 12-Jun-2024 03:44 | 449 | ||
checksrc-out.txt | 12-Jun-2024 03:44 | 4.2K | ||
checksrc-summary.dcf | 12-Jun-2024 03:44 | 472 | ||
install-out.txt | 12-Jun-2024 03:44 | 8.6K | ||
install-summary.dcf | 12-Jun-2024 03:44 | 284 | ||