Name | Last modified | Size | Description | |
---|---|---|---|---|
Parent Directory | - | |||
buildbin-summary.dcf | 17-Jul-2024 06:40 | 514 | ||
buildbin-out.txt | 17-Jul-2024 06:40 | 2.7K | ||
checksrc-summary.dcf | 17-Jul-2024 06:40 | 447 | ||
checksrc-out.txt | 17-Jul-2024 06:40 | 4.4K | ||
buildsrc-summary.dcf | 17-Jul-2024 06:40 | 453 | ||
buildsrc-out.txt | 17-Jul-2024 06:40 | 931 | ||
install-summary.dcf | 17-Jul-2024 06:40 | 268 | ||
install-out.txt | 17-Jul-2024 06:40 | 2.6K | ||