Name | Last modified | Size | Description | |
---|---|---|---|---|
Parent Directory | - | |||
buildbin-out.txt | 03-Jul-2024 23:22 | 1.3K | ||
buildbin-summary.dcf | 03-Jul-2024 23:22 | 590 | ||
buildsrc-out.txt | 03-Jul-2024 23:22 | 856 | ||
buildsrc-summary.dcf | 03-Jul-2024 23:22 | 458 | ||
checksrc-out.txt | 03-Jul-2024 23:22 | 3.6K | ||
checksrc-summary.dcf | 03-Jul-2024 23:22 | 484 | ||
install-out.txt | 03-Jul-2024 23:22 | 1.0K | ||
install-summary.dcf | 03-Jul-2024 23:22 | 289 | ||