Name | Last modified | Size | Description | |
---|---|---|---|---|
Parent Directory | - | |||
buildsrc-out.txt | 10-May-2024 00:41 | 951 | ||
buildsrc-summary.dcf | 10-May-2024 00:41 | 480 | ||
checksrc-out.txt | 09-May-2024 00:41 | 4.2K | ||
checksrc-summary.dcf | 09-May-2024 00:41 | 519 | ||
install-out.txt | 10-May-2024 00:41 | 1.0K | ||
install-summary.dcf | 10-May-2024 00:41 | 304 | ||