Name | Last modified | Size | Description | |
---|---|---|---|---|
Parent Directory | - | |||
buildbin-out.txt | 03-Jul-2024 23:21 | 12K | ||
buildbin-summary.dcf | 03-Jul-2024 23:21 | 533 | ||
buildsrc-out.txt | 03-Jul-2024 23:21 | 966 | ||
buildsrc-summary.dcf | 03-Jul-2024 23:21 | 464 | ||
checksrc-out.txt | 03-Jul-2024 23:21 | 4.6K | ||
checksrc-summary.dcf | 03-Jul-2024 23:21 | 458 | ||
install-out.txt | 03-Jul-2024 23:21 | 12K | ||
install-summary.dcf | 03-Jul-2024 23:21 | 274 | ||