Name | Last modified | Size | Description | |
---|---|---|---|---|
Parent Directory | - | |||
install-summary.dcf | 10-May-2024 00:41 | 286 | ||
buildsrc-summary.dcf | 10-May-2024 00:41 | 452 | ||
checksrc-summary.dcf | 09-May-2024 00:41 | 489 | ||
buildsrc-out.txt | 10-May-2024 00:41 | 889 | ||
install-out.txt | 10-May-2024 00:41 | 1.0K | ||
checksrc-out.txt | 09-May-2024 00:41 | 3.6K | ||