Name | Last modified | Size | Description | |
---|---|---|---|---|
Parent Directory | - | |||
buildbin-out.txt | 12-Jun-2024 03:44 | 1.2K | ||
buildbin-summary.dcf | 12-Jun-2024 03:44 | 578 | ||
buildsrc-out.txt | 12-Jun-2024 03:44 | 888 | ||
buildsrc-summary.dcf | 12-Jun-2024 03:44 | 451 | ||
checksrc-out.txt | 12-Jun-2024 03:44 | 9.5K | ||
checksrc-summary.dcf | 12-Jun-2024 03:44 | 476 | ||
install-out.txt | 12-Jun-2024 03:44 | 1.0K | ||
install-summary.dcf | 12-Jun-2024 03:44 | 285 | ||