Name | Last modified | Size | Description | |
---|---|---|---|---|
Parent Directory | - | |||
install-summary.dcf | 26-Jun-2024 06:40 | 254 | ||
checksrc-summary.dcf | 26-Jun-2024 06:40 | 405 | ||
buildsrc-summary.dcf | 26-Jun-2024 06:40 | 411 | ||
buildsrc-out.txt | 26-Jun-2024 06:40 | 798 | ||
install-out.txt | 26-Jun-2024 06:40 | 1.0K | ||
checksrc-out.txt | 26-Jun-2024 06:40 | 3.7K | ||