Name | Last modified | Size | Description | |
---|---|---|---|---|
Parent Directory | - | |||
buildbin-out.txt | 03-Jul-2024 23:20 | 1.3K | ||
buildbin-summary.dcf | 03-Jul-2024 23:20 | 557 | ||
buildsrc-out.txt | 03-Jul-2024 23:20 | 967 | ||
buildsrc-summary.dcf | 03-Jul-2024 23:20 | 481 | ||
checksrc-out.txt | 03-Jul-2024 23:20 | 4.2K | ||
checksrc-summary.dcf | 03-Jul-2024 23:20 | 475 | ||
install-out.txt | 03-Jul-2024 23:20 | 1.1K | ||
install-summary.dcf | 03-Jul-2024 23:20 | 282 | ||