Name | Last modified | Size | Description | |
---|---|---|---|---|
Parent Directory | - | |||
buildsrc-out.txt | 10-May-2024 00:41 | 801 | ||
buildsrc-summary.dcf | 10-May-2024 00:41 | 417 | ||
checksrc-out.txt | 10-May-2024 00:41 | 7.5K | ||
checksrc-summary.dcf | 10-May-2024 00:41 | 435 | ||
install-out.txt | 10-May-2024 00:41 | 962 | ||
install-summary.dcf | 10-May-2024 00:41 | 261 | ||